BEGIN:VCALENDAR
VERSION:2.0
PRODID:-//eventon.com NONSGML v1.0//EN
BEGIN:VEVENT
UID:69e7311aa76f6
DTSTAMP:20260421T081106
DTSTART:20240316T061500Z
DTEND:20240316T115900Z
TZID:UTC
LOCATION:Baileyton Good Time Drag Strip 0 0 1500 Summit Rd\,  Baileyton\,  AL 35019\,  USA
SUMMARY:Baileyton "Good Time" Dragstrip Cash Days
DESCRIPTION: Cash Days No Prep @ Baileyton\nhttps://racemasterlive.com/events/baileyton-good-time-dragstrip-cash-days/
URL:https://racemasterlive.com/events/baileyton-good-time-dragstrip-cash-days/
END:VEVENT
END:VCALENDAR