BEGIN:VCALENDAR
VERSION:2.0
PRODID:-//eventon.com NONSGML v1.0//EN
BEGIN:VEVENT
UID:69e88edf8d5fd
DTSTAMP:20260422T090327
DTSTART:20231111T160200Z
DTEND:20231112T160300Z
TZID:UTC
LOCATION:Texas Motorplex 0 7500 US-287\,  Ennis\,  TX 75119\,  USA
SUMMARY:NPK - Ennis
DESCRIPTION: NPK &#8211; Ennis\nhttps://racemasterlive.com/events/npk-ennis/
URL:https://racemasterlive.com/events/npk-ennis/
END:VEVENT
END:VCALENDAR