BEGIN:VCALENDAR
VERSION:2.0
PRODID:-//eventon.com NONSGML v1.0//EN
BEGIN:VEVENT
UID:69e7308c94baf
DTSTAMP:20260421T080844
DTSTART:20250329T110000Z
DTEND:20250329T235900Z
TZID:UTC
LOCATION:22036 MS-18 0 22036 MS-18\,  Hermanville\,  MS 39086\,  USA
SUMMARY:Da Holes Most Wanted
DESCRIPTION: Da Holes Most wanted\nhttps://racemasterlive.com/events/da-holes-most-wanted/
URL:https://racemasterlive.com/events/da-holes-most-wanted/
END:VEVENT
END:VCALENDAR