BEGIN:VCALENDAR
VERSION:2.0
PRODID:-//eventon.com NONSGML v1.0//EN
BEGIN:VEVENT
UID:69e731ceb2e4f
DTSTAMP:20260421T081406
DTSTART:20251017T110000Z
DTEND:20251018T235900Z
TZID:UTC
LOCATION:K D Dragway 0 11902 OH-140\,  South Webster\,  OH 45682\,  USA
SUMMARY:Happy and Limpy Cash Days at the Hill
DESCRIPTION: Cash Days at the Hill\nhttps://racemasterlive.com/events/happy-and-limpy-cash-days-at-the-hill-2/
URL:https://racemasterlive.com/events/happy-and-limpy-cash-days-at-the-hill-2/
END:VEVENT
END:VCALENDAR