BEGIN:VCALENDAR
VERSION:2.0
PRODID:-//eventon.com NONSGML v1.0//EN
BEGIN:VEVENT
UID:69e7311aa5885
DTSTAMP:20260421T081106
DTSTART:20250711T080000Z
DTEND:20250713T115900Z
TZID:UTC
LOCATION:US 60 Dragway 0 1487 US-60\,  Hardinsburg\,  KY 40143\,  USA
SUMMARY:Team Boddie presents Grudge Bowl $100K
DESCRIPTION: Team Boddie presents Grudge Bowl 100K\nhttps://racemasterlive.com/events/team-boddie-presents-grudge-bowl-100k/
URL:https://racemasterlive.com/events/team-boddie-presents-grudge-bowl-100k/
END:VEVENT
END:VCALENDAR