BEGIN:VCALENDAR
VERSION:2.0
PRODID:-//eventon.com NONSGML v1.0//EN
BEGIN:VEVENT
UID:69e72fa014d0c
DTSTAMP:20260421T080448
DTSTART:20241102T053200Z
DTEND:20241103T115900Z
TZID:UTC
LOCATION:Lassiter Mountain Dragway 0 0 0 0 0 3995 Raceway Pkwy\,  Mt Olive\,  AL 35117\,  USA
SUMMARY:Mobsquad Backside No Prep
DESCRIPTION: Mobsquad Backside No Prep\nhttps://racemasterlive.com/events/mobsquad-backside-no-prep/
URL:https://racemasterlive.com/events/mobsquad-backside-no-prep/
END:VEVENT
END:VCALENDAR