BEGIN:VCALENDAR
VERSION:2.0
PRODID:-//eventon.com NONSGML v1.0//EN
BEGIN:VEVENT
UID:69e7323603220
DTSTAMP:20260421T081550
DTSTART:20240407T060300Z
DTEND:20240407T010000Z
TZID:UTC
LOCATION:79 0 0 79\,  Pinson\,  38366\,  United States
SUMMARY:Fool's Gold No Prep
DESCRIPTION: Saturday No Prep\nhttps://racemasterlive.com/events/fools-gold-no-prep/
URL:https://racemasterlive.com/events/fools-gold-no-prep/
END:VEVENT
END:VCALENDAR